BEGIN:VCALENDAR
VERSION:2.0
PRODID:-//Squarespace Inc/Squarespace 6//v6//EN
BEGIN:VEVENT
UID:5c49985c575d1fe4bb011346@squarespace.com
DTSTAMP:20190124T105030Z
DTSTART:20190129T220000Z
DTEND:20190201T060000Z
SUMMARY:Foundation Interviews
END:VEVENT
END:VCALENDAR
