BEGIN:VCALENDAR
VERSION:2.0
PRODID:-//Squarespace Inc/Squarespace 6//v6//EN
BEGIN:VEVENT
UID:5c4997af4d7a9ca63640e2aa@squarespace.com
DTSTAMP:20190124T104954Z
DTSTART:20190129T220000Z
DTEND:20190130T060000Z
SUMMARY:Meet the Teacher Interviews
END:VEVENT
END:VCALENDAR
